BEGIN:VCALENDAR
VERSION:2.0
PRODID:-//Kirche Helbe-Notter//NONSGML kigkonsult.se iCalcreator 2.30.10//
CALSCALE:GREGORIAN
METHOD:PUBLISH
UID:d7c8c4b8-bca6-4e6c-afde-6930feef52ec
X-WR-CALNAME:iCagenda
X-WR-CALDESC:Event Management Extension for Joomla!
X-WR-RELCALID:3E26604A-50F4-4449-8B3E-E4F4932D05B5
X-WR-TIMEZONE:Europe/Berlin
BEGIN:VTIMEZONE
TZID:Europe/Berlin
BEGIN:STANDARD
TZNAME:CET
DTSTART:20251026T030000
TZOFFSETFROM:+0200
TZOFFSETTO:+0100
RDATE:20261025T030000
END:STANDARD
BEGIN:DAYLIGHT
TZNAME:CEST
DTSTART:20250330T020000
TZOFFSETFROM:+0100
TZOFFSETTO:+0200
RDATE:20260329T020000
RDATE:20270328T020000
END:DAYLIGHT
END:VTIMEZONE
BEGIN:VEVENT
UID:9103d633-0027-4ac1-ae63-06ba39c8f921
DTSTAMP:20260421T100404Z
CATEGORIES:Gremien
CLASS:PUBLIC
DESCRIPTION:
DTSTART:20260219T180000Z
DTEND:20260219T180000Z
GEO:00;0
LOCATION:
ORGANIZER:
SEQUENCE:1
SUMMARY:Gemeindekirchenrat-Sitzung in Körner
TRANSP:OPAQUE
URL:https://helbe-notter.de/index.php/component/icagenda/269-gemeindekirche
 nrat-sitzung-in-k%C3%B6rner/2026-02-19-19-00?Itemid=101&iccaldate=2033-12-
 1
END:VEVENT
END:VCALENDAR
