BEGIN:VCALENDAR
VERSION:2.0
PRODID:-//Kirche Helbe-Notter//NONSGML kigkonsult.se iCalcreator 2.30.10//
CALSCALE:GREGORIAN
METHOD:PUBLISH
UID:04d64307-0a75-492a-bd27-9664d106af99
X-WR-CALNAME:iCagenda
X-WR-CALDESC:Event Management Extension for Joomla!
X-WR-RELCALID:3E26604A-50F4-4449-8B3E-E4F4932D05B5
X-WR-TIMEZONE:Europe/Berlin
BEGIN:VTIMEZONE
TZID:Europe/Berlin
BEGIN:STANDARD
TZNAME:CET
DTSTART:20241027T030000
TZOFFSETFROM:+0200
TZOFFSETTO:+0100
RDATE:20251026T030000
END:STANDARD
BEGIN:DAYLIGHT
TZNAME:CEST
DTSTART:20240331T020000
TZOFFSETFROM:+0100
TZOFFSETTO:+0200
RDATE:20250330T020000
RDATE:20260329T020000
END:DAYLIGHT
END:VTIMEZONE
BEGIN:VEVENT
UID:fe30c400-de72-4d1f-83bc-952a3083a4e7
DTSTAMP:20260421T102121Z
CATEGORIES:Gremien
CLASS:PUBLIC
DESCRIPTION:
DTSTART:20241108T173000Z
DTEND:20241108T173000Z
GEO:00;0
LOCATION:Gemeindehaus Großmehlra
ORGANIZER;CN=:alfons@burhenne-web.de
SEQUENCE:1
SUMMARY:Kirchenältesten-Sitzung in Großmehlra
TRANSP:OPAQUE
URL:https://helbe-notter.de/index.php/component/icagenda/34-kirchen-aeltest
 en-sitzung-in-grossmehlra/2024-11-08-18-30?Itemid=101
END:VEVENT
END:VCALENDAR
