BEGIN:VCALENDAR
VERSION:2.0
PRODID:-//Kirche Helbe-Notter//NONSGML kigkonsult.se iCalcreator 2.30.10//
CALSCALE:GREGORIAN
METHOD:PUBLISH
UID:790931f1-e40a-4c92-8fa8-4b4629603f54
X-WR-CALNAME:iCagenda
X-WR-CALDESC:Event Management Extension for Joomla!
X-WR-RELCALID:3E26604A-50F4-4449-8B3E-E4F4932D05B5
X-WR-TIMEZONE:Europe/Berlin
BEGIN:VTIMEZONE
TZID:Europe/Berlin
BEGIN:STANDARD
TZNAME:CET
DTSTART:20241027T030000
TZOFFSETFROM:+0200
TZOFFSETTO:+0100
RDATE:20251026T030000
RDATE:20261025T030000
END:STANDARD
BEGIN:DAYLIGHT
TZNAME:CEST
DTSTART:20250330T020000
TZOFFSETFROM:+0100
TZOFFSETTO:+0200
RDATE:20260329T020000
END:DAYLIGHT
END:VTIMEZONE
BEGIN:VEVENT
UID:6f11baca-f685-4969-a0f1-e536d52d0802
DTSTAMP:20260421T102214Z
CATEGORIES:Gemeindeleben
CLASS:PUBLIC
DESCRIPTION:
DTSTART:20250918T180000Z
DTEND:20250918T180000Z
GEO:00;0
LOCATION:Gemeindehaus Großmehlra
ORGANIZER:
SEQUENCE:1
SUMMARY:Hauskreis in Großmehlra im Gemeindehaus
TRANSP:OPAQUE
URL:https://helbe-notter.de/index.php/component/icagenda/353-hauskreis-in-g
 ro%C3%9Fmehlra-im-gemeindehaus/2025-09-18-20-00?Itemid=101&iccaldate=2027-
 5-1
END:VEVENT
END:VCALENDAR
