BEGIN:VCALENDAR
VERSION:2.0
PRODID:-//Kirche Helbe-Notter//NONSGML kigkonsult.se iCalcreator 2.30.10//
CALSCALE:GREGORIAN
METHOD:PUBLISH
UID:c9b0fc7e-cfdf-4d42-b356-ab9cd60f80e4
X-WR-CALNAME:iCagenda
X-WR-CALDESC:Event Management Extension for Joomla!
X-WR-RELCALID:3E26604A-50F4-4449-8B3E-E4F4932D05B5
X-WR-TIMEZONE:Europe/Berlin
BEGIN:VTIMEZONE
TZID:Europe/Berlin
BEGIN:STANDARD
TZNAME:CET
DTSTART:20241027T030000
TZOFFSETFROM:+0200
TZOFFSETTO:+0100
RDATE:20251026T030000
RDATE:20261025T030000
END:STANDARD
BEGIN:DAYLIGHT
TZNAME:CEST
DTSTART:20250330T020000
TZOFFSETFROM:+0100
TZOFFSETTO:+0200
RDATE:20260329T020000
RDATE:20270328T020000
END:DAYLIGHT
END:VTIMEZONE
BEGIN:VEVENT
UID:e0295899-f7a7-4c06-b535-6e0eb8168cfe
DTSTAMP:20260420T202316Z
CATEGORIES:Events
CLASS:PUBLIC
DESCRIPTION;ALTREP="CID:<FFFF__=0ABBE548DFE235B58f9e8a93d@coffeebean.com>":
 Samstag | 27.09.2025 | 15 Uhr in 99713 Holzthaleben\nWir starten mit lecke
 rem Kaffee und Kuchen und enden um 17:30 Uhr.Ein Nachmittag mit Spiel\, Sp
 aß\, Kreativstationen\, Andacht\, Kaffee und Kuchen\nWo? Holzthaleben\, Sp
 ortplatzMitbringen? Teller\, Besteck und Becher pro PersonFür Wen? Familie
 n - Jung und Alt und Jeden\nKommt gern auch spontan vorbei - wir freuen un
 s auf euch!!!\n\n 
DTSTART:20250927T130000Z
DTEND:20250927T153000Z
GEO:+51.338921;+10.58807
LOCATION:Sportplatz Holzthaleben
ORGANIZER;CN=:hamann@suptur-bad-frankenhausen.de
SEQUENCE:1
SUMMARY:Kirche Kunterbunt in Holzthaleben am 27.09.2025
TRANSP:OPAQUE
URL:https://helbe-notter.de/index.php/component/icagenda/394-kirche-kunterb
 unt-in-holzthaleben-am-27-09-2025/2025-09-27-15-00?Itemid=101&iccaldate=20
 27-07-1
END:VEVENT
END:VCALENDAR
