BEGIN:VCALENDAR
VERSION:2.0
PRODID:-//Kirche Helbe-Notter//NONSGML kigkonsult.se iCalcreator 2.30.10//
CALSCALE:GREGORIAN
METHOD:PUBLISH
UID:bb852272-8b0c-4ff2-bd79-fb4336cc7fed
X-WR-CALNAME:iCagenda
X-WR-CALDESC:Event Management Extension for Joomla!
X-WR-RELCALID:3E26604A-50F4-4449-8B3E-E4F4932D05B5
X-WR-TIMEZONE:Europe/Berlin
BEGIN:VTIMEZONE
TZID:Europe/Berlin
BEGIN:STANDARD
TZNAME:CET
DTSTART:20251026T030000
TZOFFSETFROM:+0200
TZOFFSETTO:+0100
RDATE:20261025T030000
END:STANDARD
BEGIN:DAYLIGHT
TZNAME:CEST
DTSTART:20250330T020000
TZOFFSETFROM:+0100
TZOFFSETTO:+0200
RDATE:20260329T020000
RDATE:20270328T020000
END:DAYLIGHT
END:VTIMEZONE
BEGIN:VEVENT
UID:36082a75-7f0b-4757-b4d7-346ca1ffab20
DTSTAMP:20260421T130408Z
CATEGORIES:Events
CLASS:PUBLIC
DESCRIPTION;ALTREP="CID:<FFFF__=0ABBE548DFE235B58f9e8a93d@coffeebean.com>":
 Freitag | 21.11.2025 | ab 18 Uhr in Schlotheim\nein! Wir freuen uns auf eu
 ch!\nWir starten ab 18:00 Uhr und beenden um ca. 21:00 Uhr.Ein gemeinsamer
  Abend mit \nWo? Evangelisches Pfarramt Ebeleben-Schlotheim\, Herrenstraße
  1\, 99994 Nottertal-Heilinger HöhenFür Wen? Erwachsene - Jung und Alt\n 
 \n \nKommt gern auch spontan vorbei!!! \n
DTSTART:20251121T170000Z
DTEND:20251121T200000Z
GEO:+51.246197;+10.654437
LOCATION:Evangelisches Pfarramt Ebeleben-Schlotheim
ORGANIZER;CN=:hamann@suptur-bad-frankenhausen.de
SEQUENCE:1
SUMMARY:Zeit für Dich! - Kirche Kunterbunt für Erwachsene am 21.11.2025 in 
 Schlotheim
TRANSP:OPAQUE
URL:https://helbe-notter.de/index.php/component/icagenda/426-zeit-f%C3%BCr-
 dich-kirche-kunterbunt-f%C3%BCr-erwachsene-am-21-11-2025-in-schlotheim/202
 5-11-21-18-00?Itemid=101&iccaldate=2026-6-1
END:VEVENT
END:VCALENDAR
